BEGIN:VCALENDAR
VERSION:2.0
PRODID:-//GPIA - ECPv6.10.2//NONSGML v1.0//EN
CALSCALE:GREGORIAN
METHOD:PUBLISH
X-ORIGINAL-URL:https://www.plongee-gpia.fr
X-WR-CALDESC:Évènements pour GPIA
REFRESH-INTERVAL;VALUE=DURATION:PT1H
X-Robots-Tag:noindex
X-PUBLISHED-TTL:PT1H
BEGIN:VTIMEZONE
TZID:Europe/Paris
BEGIN:DAYLIGHT
TZOFFSETFROM:+0100
TZOFFSETTO:+0200
TZNAME:CEST
DTSTART:20240331T010000
END:DAYLIGHT
BEGIN:STANDARD
TZOFFSETFROM:+0200
TZOFFSETTO:+0100
TZNAME:CET
DTSTART:20241027T010000
END:STANDARD
BEGIN:DAYLIGHT
TZOFFSETFROM:+0100
TZOFFSETTO:+0200
TZNAME:CEST
DTSTART:20250330T010000
END:DAYLIGHT
BEGIN:STANDARD
TZOFFSETFROM:+0200
TZOFFSETTO:+0100
TZNAME:CET
DTSTART:20251026T010000
END:STANDARD
END:VTIMEZONE
BEGIN:VEVENT
DTSTART;VALUE=DATE:20250515
DTEND;VALUE=DATE:20250520
DTSTAMP:20260421T104944
CREATED:20250211T202142Z
LAST-MODIFIED:20250211T202142Z
UID:3811-1747267200-1747699199@www.plongee-gpia.fr
SUMMARY:Coléra
DESCRIPTION:
URL:https://www.plongee-gpia.fr/event/colera/
LOCATION:Coléra\, 17496 – Colera (Girona)\, Colera\, Spain
CATEGORIES:Sortie club
END:VEVENT
BEGIN:VEVENT
DTSTART;TZID=Europe/Paris:20250514T210000
DTEND;TZID=Europe/Paris:20250514T220000
DTSTAMP:20260421T104944
CREATED:20241130T210418Z
LAST-MODIFIED:20241130T210418Z
UID:3745-1747256400-1747260000@www.plongee-gpia.fr
SUMMARY:Fosse Conflans
DESCRIPTION:Fosse Plongeur\, rendez-vous à 20h30
URL:https://www.plongee-gpia.fr/event/fosse-conflans-17/
LOCATION:Fosse Conflans\, 8 Rue Henri Dunant\, Conflans Sainte Honorine\, 78700\, France
CATEGORIES:Fosse
END:VEVENT
BEGIN:VEVENT
DTSTART;TZID=Europe/Paris:20250504T100000
DTEND;TZID=Europe/Paris:20250504T100000
DTSTAMP:20260421T104944
CREATED:20241104T090012Z
LAST-MODIFIED:20241130T210247Z
UID:3728-1746352800-1746352800@www.plongee-gpia.fr
SUMMARY:Fosse Conflans
DESCRIPTION:Fosse Plongeur\, rendez-vous à 09h30
URL:https://www.plongee-gpia.fr/event/fosse-conflans-11/
LOCATION:Fosse Conflans\, 8 Rue Henri Dunant\, Conflans Sainte Honorine\, 78700\, France
CATEGORIES:Fosse
END:VEVENT
BEGIN:VEVENT
DTSTART;VALUE=DATE:20250426
DTEND;VALUE=DATE:20250504
DTSTAMP:20260421T104944
CREATED:20241130T211519Z
LAST-MODIFIED:20241130T211519Z
UID:3754-1745625600-1746316799@www.plongee-gpia.fr
SUMMARY:Stage N3 à l'Incatu (Corse)
DESCRIPTION:
URL:https://www.plongee-gpia.fr/event/stage-n3-a-lincatu-corse/
LOCATION:L’incatu Galéria\, Route de Calca\, Galeria\, Corse\, 20245\, France
END:VEVENT
BEGIN:VEVENT
DTSTART;TZID=Europe/Paris:20250406T100000
DTEND;TZID=Europe/Paris:20250406T110000
DTSTAMP:20260421T104944
CREATED:20241130T205804Z
LAST-MODIFIED:20241130T205804Z
UID:3740-1743933600-1743937200@www.plongee-gpia.fr
SUMMARY:Fosse Conflans
DESCRIPTION:Fosse Plongeur\, rendez-vous à 09h30
URL:https://www.plongee-gpia.fr/event/fosse-conflans-16/
LOCATION:Fosse Conflans\, 8 Rue Henri Dunant\, Conflans Sainte Honorine\, 78700\, France
CATEGORIES:Fosse
END:VEVENT
BEGIN:VEVENT
DTSTART;TZID=Europe/Paris:20250312T210000
DTEND;TZID=Europe/Paris:20250312T220000
DTSTAMP:20260421T104944
CREATED:20241130T204816Z
LAST-MODIFIED:20241130T204816Z
UID:3739-1741813200-1741816800@www.plongee-gpia.fr
SUMMARY:Fosse Conflans
DESCRIPTION:Fosse Plongeur\, rendez-vous à 20h30
URL:https://www.plongee-gpia.fr/event/fosse-conflans-15/
LOCATION:Fosse Conflans\, 8 Rue Henri Dunant\, Conflans Sainte Honorine\, 78700\, France
CATEGORIES:Fosse
END:VEVENT
BEGIN:VEVENT
DTSTART;TZID=Europe/Paris:20250221T210000
DTEND;TZID=Europe/Paris:20250221T220000
DTSTAMP:20260421T104944
CREATED:20250211T201413Z
LAST-MODIFIED:20250211T201413Z
UID:3805-1740171600-1740175200@www.plongee-gpia.fr
SUMMARY:Découverte de l'archéologie sous marine
DESCRIPTION:Comme promis\, nous vous proposons de découvrir d’autres activités liées à la plongée sous-marine\, nous commençons par la découverte de l’archéologie sous marine le vendredi 21/02/2025 (pendant les congés scolaires). \nLa session sera animée par Bernard THIBAULT (président de la commission Archéologie sous marine du Val d’Oise) et aura lieu dans le grand bassin de la piscine de L’Isle-Adam. \nIl faut absolument être N1 pour pouvoir participer. \nLe nombre d’inscrits par session limité à 10 personnes (Bernard ne peut pas en prendre plus\, raison pour laquelle\, nous organisons 2 sessions consécutives).Inscription obligatoire.
URL:https://www.plongee-gpia.fr/event/decouverte-de-larcheologie-sous-marine-2/
LOCATION:Piscine de l’Isle-Adam\, 1 avenue Paul Thoureau\, L'Isle-Adam\, 95290\, France
END:VEVENT
BEGIN:VEVENT
DTSTART;TZID=Europe/Paris:20250221T193000
DTEND;TZID=Europe/Paris:20250221T193000
DTSTAMP:20260421T104944
CREATED:20250211T201156Z
LAST-MODIFIED:20250211T201453Z
UID:3803-1740166200-1740166200@www.plongee-gpia.fr
SUMMARY:Découverte de l'archéologie sous marine
DESCRIPTION:Comme promis\, nous vous proposons de découvrir d’autres activités liées à la plongée sous-marine\, nous commençons par la découverte de l’archéologie sous marine le vendredi 21/02/2025 (pendant les congés scolaires). \nLa session sera animée par Bernard THIBAULT (président de la commission Archéologie sous marine du Val d’Oise) et aura lieu dans le grand bassin de la piscine de L’Isle-Adam. \nIl faut absolument être N1 pour pouvoir participer. \nLe nombre d’inscrits par session limité à 10 personnes (Bernard ne peut pas en prendre plus\, raison pour laquelle\, nous organisons 2 sessions consécutives).Inscription obligatoire.
URL:https://www.plongee-gpia.fr/event/decouverte-de-larcheologie-sous-marine/
LOCATION:Piscine de l’Isle-Adam\, 1 avenue Paul Thoureau\, L'Isle-Adam\, 95290\, France
CATEGORIES:Vie du club
END:VEVENT
BEGIN:VEVENT
DTSTART;TZID=Europe/Paris:20250209T100000
DTEND;TZID=Europe/Paris:20250209T110000
DTSTAMP:20260421T104944
CREATED:20241130T204630Z
LAST-MODIFIED:20241130T204652Z
UID:3744-1739095200-1739098800@www.plongee-gpia.fr
SUMMARY:Fosse Conflans
DESCRIPTION:Fosse Plongeur\, rendez-vous à 09h30
URL:https://www.plongee-gpia.fr/event/fosse-conflans-14/
LOCATION:Fosse Conflans\, 8 Rue Henri Dunant\, Conflans Sainte Honorine\, 78700\, France
CATEGORIES:Fosse
END:VEVENT
BEGIN:VEVENT
DTSTART;VALUE=DATE:20250201
DTEND;VALUE=DATE:20250203
DTSTAMP:20260421T104944
CREATED:20241130T211819Z
LAST-MODIFIED:20241130T211819Z
UID:3760-1738368000-1738540799@www.plongee-gpia.fr
SUMMARY:Némo
DESCRIPTION:
URL:https://www.plongee-gpia.fr/event/nemo/
END:VEVENT
BEGIN:VEVENT
DTSTART;VALUE=DATE:20250201
DTEND;VALUE=DATE:20250202
DTSTAMP:20260421T104944
CREATED:20241130T211645Z
LAST-MODIFIED:20241130T211645Z
UID:3758-1738368000-1738454399@www.plongee-gpia.fr
SUMMARY:Todi
DESCRIPTION:
URL:https://www.plongee-gpia.fr/event/todi/
CATEGORIES:Sortie club
END:VEVENT
BEGIN:VEVENT
DTSTART;TZID=Europe/Paris:20250115T210000
DTEND;TZID=Europe/Paris:20250115T220000
DTSTAMP:20260421T104944
CREATED:20241130T204555Z
LAST-MODIFIED:20241130T204555Z
UID:3742-1736974800-1736978400@www.plongee-gpia.fr
SUMMARY:Fosse Conflans
DESCRIPTION:Fosse Plongeur\, rendez-vous à 20h30
URL:https://www.plongee-gpia.fr/event/fosse-conflans-13/
LOCATION:Fosse Conflans\, 8 Rue Henri Dunant\, Conflans Sainte Honorine\, 78700\, France
CATEGORIES:Fosse
END:VEVENT
BEGIN:VEVENT
DTSTART;TZID=Europe/Paris:20241215T100000
DTEND;TZID=Europe/Paris:20241215T110000
DTSTAMP:20260421T104944
CREATED:20241130T204155Z
LAST-MODIFIED:20241130T204155Z
UID:3743-1734256800-1734260400@www.plongee-gpia.fr
SUMMARY:Fosse Conflans
DESCRIPTION:Fosse Plongeur\, rendez-vous à 20h30
URL:https://www.plongee-gpia.fr/event/fosse-conflans-12/
LOCATION:Fosse Conflans\, 8 Rue Henri Dunant\, Conflans Sainte Honorine\, 78700\, France
CATEGORIES:Fosse
END:VEVENT
BEGIN:VEVENT
DTSTART;TZID=Europe/Paris:20241204T210000
DTEND;TZID=Europe/Paris:20241204T220000
DTSTAMP:20260421T104944
CREATED:20241116T113523Z
LAST-MODIFIED:20241130T204018Z
UID:3729-1733346000-1733349600@www.plongee-gpia.fr
SUMMARY:Fosse Conflans
DESCRIPTION:Fosse Plongeur\, rendez-vous à 20h30
URL:https://www.plongee-gpia.fr/event/fosse-conflans-10/
LOCATION:Fosse Conflans\, 8 Rue Henri Dunant\, Conflans Sainte Honorine\, 78700\, France
CATEGORIES:Fosse
END:VEVENT
END:VCALENDAR